Workbook

Sheet List1
A1: KVAFILIKACE | C1: 1 | E1: 2 | G1: 3
A2: Poř. č. | B2: Jméno | C2: Vis na liště | D2: Body | E2: Přesahy 1 - 4 | F2: Body | G2: Vis na kouli | H2: Body | I2: Celkem
A3: 1 | B3: Lukáš Skála | C3: 51.1 | D3: =C3/40*900 -> 1149.75 | E3: 24 | F3: =E3/15*900 -> 1440 | G3: 57.2 | H3: =G3/50*900 -> 1029.6 | I3: =D3+H3+F3 -> 3619.35
A4: 2 | B4: Michal Běhounek | C4: 57 | D4: =C4/40*900 -> 1282.5 | E4: 22 | F4: =E4/15*900 -> 1320 | G4: 50.9 | H4: =G4/50*900 -> 916.2 | I4: =D4+H4+F4 -> 3518.7
A5: 3 | B5: Richard Pařil | C5: 49.2 | D5: =C5/40*900 -> 1107 | E5: 25 | F5: =E5/15*900 -> 1500 | G5: 47.8 | H5: =G5/50*900 -> 860.4 | I5: =D5+H5+F5 -> 3467.4
A6: 4 | B6: Břetislav Brodský | C6: 57 | D6: =C6/40*900 -> 1282.5 | E6: 21 | F6: =E6/15*900 -> 1260 | G6: 41 | H6: =G6/50*900 -> 738 | I6: =D6+H6+F6 -> 3280.5
A7: 5 | B7: Libor Břicháček | C7: 45.7 | D7: =C7/40*900 -> 1028.25 | E7: 23 | F7: =E7/15*900 -> 1380 | G7: 47.1 | H7: =G7/50*900 -> 847.8 | I7: =D7+H7+F7 -> 3256.05
A8: 6 | B8: Lukáš Bíba | C8: 52.3 | D8: =C8/40*900 -> 1176.75 | E8: 17 | F8: =E8/15*900 -> 1020 | G8: 48 | H8: =G8/50*900 -> 864 | I8: =D8+H8+F8 -> 3060.75
A9: 7 | B9: Martin Dvorský | C9: 38.7 | D9: =C9/40*900 -> 870.75 | E9: 15 | F9: =E9/15*900 -> 900 | G9: 48.6 | H9: =G9/50*900 -> 874.8 | I9: =D9+H9+F9 -> 2645.55
A10: 8 | B10: Jan Smrčka | C10: 30.7 | D10: =C10/40*900 -> 690.75 | E10: 15 | F10: =E10/15*900 -> 900 | G10: 57.2 | H10: =G10/50*900 -> 1029.6 | I10: =D10+H10+F10 -> 2620.35
A11: 9 | B11: Filip Čech | C11: 34.6 | D11: =C11/40*900 -> 778.5 | E11: 13 | F11: =E11/15*900 -> 780 | G11: 50.4 | H11: =G11/50*900 -> 907.2 | I11: =D11+H11+F11 -> 2465.7
A12: 10 | B12: Pavel Moravec | C12: 26.2 | D12: =C12/40*900 -> 589.5 | E12: 12 | F12: =E12/15*900 -> 720 | G12: 51.5 | H12: =G12/50*900 -> 927 | I12: =D12+H12+F12 -> 2236.5
A13: 11 | B13: Aneta Loužecká | C13: 49.7 | D13: =C13/40*900 -> 1118.25 | E13: 6 | F13: =E13/15*900 -> 360 | G13: 12.6 | H13: =G13/50*900 -> 226.8 | I13: =D13+H13+F13 -> 1705.05
A14: 12 | B14: Radek Záveský | C14: 31.1 | D14: =C14/40*900 -> 699.75 | E14: 1 | F14: =E14/15*900 -> 60 | G14: 40.6 | H14: =G14/50*900 -> 730.8 | I14: =D14+H14+F14 -> 1490.55

Sheet List2
A1: FINÁLE | C1: 1 | E1: 2 | G1: 3 | I1: 4 | K1: 5 | M1: 6 | O1: 7 | Q1: 8 | S1: 9 | U1: 10
A2: Poř. č. | B2: Jméno | C2: Rychlost | D2: Body | E2: Vis na oblině | F2: Body | G2: Křivé shyby | H2: Body | I2: Malé lišty | J2: Body | K2: Panelák | L2: Body | M2: Bachar | N2: Body | O2: Stisky | P2: Body | Q2: Double dynamo | R2: Body | S2: Vis na malé | T2: Body | U2: Vytrvalost | V2: Body | W2: Celkem | X2: Umístění
A3: 1 | B3: Adam Ondra | C3: 8.8 | D3: =3000-(C3*250) -> 800 | E3: 40.3 | F3: =E3/33*900 -> 1099.0909 | G3: 15 | H3: =G3/13*900 -> 1038.4615 | I3: 105 | J3: =I3/85*900 -> 1111.7647 | K3: 28.3 | L3: =K3/33*900 -> 771.81818 | M3: 14 | N3: =M3/17*900 -> 741.17647 | O3: 32 | P3: =O3/30*900 -> 960 | Q3: 10 | R3: =Q3/21*900 -> 428.57143 | S3: 37.4 | T3: =S3/35*900 -> 961.71429 | U3: 51 | V3: =U3/46*900 -> 997.82609 | W3: =D3+H3+F3+J3+L3+N3+P3+R3+T3+V3 -> 8910.4236
A4: 2 | B4: Štěpán Stráník | C4: 9.3 | D4: =3000-(C4*250) -> 675 | E4: 25 | F4: =E4/33*900 -> 681.81818 | G4: 14 | H4: =G4/13*900 -> 969.23077 | I4: 102 | J4: =I4/85*900 -> 1080 | K4: 33.3 | L4: =K4/33*900 -> 908.18182 | M4: 12 | N4: =M4/17*900 -> 635.29412 | O4: 26 | P4: =O4/30*900 -> 780 | Q4: 24 | R4: =Q4/21*900 -> 1028.5714 | S4: 37.2 | T4: =S4/35*900 -> 956.57143 | U4: 35 | V4: =U4/46*900 -> 684.78261 | W4: =D4+H4+F4+J4+L4+N4+P4+R4+T4+V4 -> 8399.4504
A5: 3 | B5: Michal Běhounek | C5: 9.1 | D5: =3000-(C5*250) -> 725 | E5: 23.9 | F5: =E5/33*900 -> 651.81818 | G5: 10 | H5: =G5/13*900 -> 692.30769 | I5: 56 | J5: =I5/85*900 -> 592.94118 | K5: 30.3 | L5: =K5/33*900 -> 826.36364 | M5: 11 | N5: =M5/17*900 -> 582.35294 | O5: 16 | P5: =O5/30*900 -> 480 | Q5: 10 | R5: =Q5/21*900 -> 428.57143 | S5: 26.9 | T5: =S5/35*900 -> 691.71429 | U5: 25 | V5: =U5/46*900 -> 489.13043 | W5: =D5+H5+F5+J5+L5+N5+P5+R5+T5+V5 -> 6160.1998
A6: 4 | B6: Lukáš Skála | C6: - | D6: 0 | E6: 22.6 | F6: =E6/33*900 -> 616.36364 | G6: 11 | H6: =G6/13*900 -> 761.53846 | I6: 37 | J6: =I6/85*900 -> 391.76471 | K6: 19.3 | L6: =K6/33*900 -> 526.36364 | M6: 11 | N6: =M6/17*900 -> 582.35294 | O6: 16 | P6: =O6/30*900 -> 480 | Q6: 18 | R6: =Q6/21*900 -> 771.42857 | S6: 25.1 | T6: =S6/35*900 -> 645.42857 | U6: 27 | V6: =U6/46*900 -> 528.26087 | W6: =D6+H6+F6+J6+L6+N6+P6+R6+T6+V6 -> 5303.5014
A7: 5 | B7: Libor Břicháček | C7: 11 | D7: =3000-(C7*250) -> 250 | E7: 20.3 | F7: =E7/33*900 -> 553.63636 | G7: 11 | H7: =G7/13*900 -> 761.53846 | I7: 61 | J7: =I7/85*900 -> 645.88235 | K7: 29.2 | L7: =K7/33*900 -> 796.36364 | M7: 10 | N7: =M7/17*900 -> 529.41176 | O7: 3 | P7: =O7/30*900 -> 90 | Q7: 16 | R7: =Q7/21*900 -> 685.71429 | S7: 19.3 | T7: =S7/35*900 -> 496.28571 | U7: 23 | V7: =U7/46*900 -> 450 | W7: =D7+H7+F7+J7+L7+N7+P7+R7+T7+V7 -> 5258.8326
A8: 6 | B8: Richard Pařil | C8: 9.5 | D8: =3000-(C8*250) -> 625 | E8: 23 | F8: =E8/33*900 -> 627.27273 | G8: 11 | H8: =G8/13*900 -> 761.53846 | I8: 34 | J8: =I8/85*900 -> 360 | K8: 25.3 | L8: =K8/33*900 -> 690 | M8: 6 | N8: =M8/17*900 -> 317.64706 | O8: 14 | P8: =O8/30*900 -> 420 | Q8: 12 | R8: =Q8/21*900 -> 514.28571 | S8: 17.5 | T8: =S8/35*900 -> 450 | U8: 19 | V8: =U8/46*900 -> 371.73913 | W8: =D8+H8+F8+J8+L8+N8+P8+R8+T8+V8 -> 5137.4831
A9: 7 | B9: Martin Dvorský | C9: 11.5 | D9: =3000-(C9*250) -> 125 | E9: 12.5 | F9: =E9/33*900 -> 340.90909 | G9: 9 | H9: =G9/13*900 -> 623.07692 | I9: 32 | J9: =I9/85*900 -> 338.82353 | K9: 19.5 | L9: =K9/33*900 -> 531.81818 | M9: 8 | N9: =M9/17*900 -> 423.52941 | O9: 14 | P9: =O9/30*900 -> 420 | Q9: 10 | R9: =Q9/21*900 -> 428.57143 | S9: 26.1 | T9: =S9/35*900 -> 671.14286 | U9: 17 | V9: =U9/46*900 -> 332.6087 | W9: =D9+H9+F9+J9+L9+N9+P9+R9+T9+V9 -> 4235.4801
A10: 8 | B10: Břetislav Brodský | C10: 13.2 | D10: 0 | E10: 13 | F10: =E10/33*900 -> 354.54545 | G10: 9 | H10: =G10/13*900 -> 623.07692 | I10: 60 | J10: =I10/85*900 -> 635.29412 | K10: 21.3 | L10: =K10/33*900 -> 580.90909 | M10: 10 | N10: =M10/17*900 -> 529.41176 | O10: 8 | P10: =O10/30*900 -> 240 | Q10: 11 | R10: =Q10/21*900 -> 471.42857 | S10: 8.5 | T10: =S10/35*900 -> 218.57143 | U10: 18 | V10: =U10/46*900 -> 352.17391 | W10: =D10+H10+F10+J10+L10+N10+P10+R10+T10+V10 -> 4005.4113
A11: 9 | B11: Lukáš Bíba | C11: 18.5 | D11: 0 | E11: 4.3 | F11: =E11/33*900 -> 117.27273 | G11: 8 | H11: =G11/13*900 -> 553.84615 | I11: 34 | J11: =I11/85*900 -> 360 | K11: 3.5 | L11: =K11/33*900 -> 95.454545 | M11: 6 | N11: =M11/17*900 -> 317.64706 | O11: 7 | P11: =O11/30*900 -> 210 | Q11: 11 | R11: =Q11/21*900 -> 471.42857 | S11: 22.1 | T11: =S11/35*900 -> 568.28571 | U11: 15 | V11: =U11/46*900 -> 293.47826 | W11: =D11+H11+F11+J11+L11+N11+P11+R11+T11+V11 -> 2987.413
A12: 10 | B12: Jan Smrčka | C12: 21.1 | D12: 0 | E12: 6.7 | F12: =E12/33*900 -> 182.72727 | G12: 4 | H12: =G12/13*900 -> 276.92308 | I12: 26 | J12: =I12/85*900 -> 275.29412 | K12: 13.6 | L12: =K12/33*900 -> 370.90909 | M12: 4 | N12: =M12/17*900 -> 211.76471 | O12: 3 | P12: =O12/30*900 -> 90 | Q12: 9 | R12: =Q12/21*900 -> 385.71429 | S12: - | T12: 0 | U12: 18 | V12: =U12/46*900 -> 352.17391 | W12: =D12+H12+F12+J12+L12+N12+P12+R12+T12+V12 -> 2145.5065

Sheet List3
A1: =List1!A1 -> KVAFILIKACE | B1: =List1!B1 -> 0 | C1: =List1!C1 -> 1 | D1: =List1!D1 -> 0 | E1: =List1!E1 -> 2 | F1: =List1!F1 -> 0 | G1: =List1!G1 -> 3 | H1: =List1!H1 -> 0
A2: =List1!A2 -> Poř. č. | B2: =List1!B2 -> Jméno | C2: =List1!C2 -> Vis na liště | D2: =List1!D2 -> Body | E2: =List1!E2 -> Přesahy 1 - 4 | F2: =List1!F2 -> Body | G2: =List1!G2 -> Vis na kouli | H2: =List1!H2 -> Body | I2: =List1!I2 -> Celkem
A3: =List1!A3 -> 1 | B3: =List1!B3 -> Lukáš Skála | C3: =List1!C3 -> 51.1 | D3: =List1!D3 -> 1149.75 | E3: =List1!E3 -> 24 | F3: =List1!F3 -> 1440 | G3: =List1!G3 -> 57.2 | H3: =List1!H3 -> 1029.6 | I3: =List1!I3 -> 3619.35
A4: =List1!A4 -> 2 | B4: =List1!B4 -> Michal Běhounek | C4: =List1!C4 -> 57 | D4: =List1!D4 -> 1282.5 | E4: =List1!E4 -> 22 | F4: =List1!F4 -> 1320 | G4: =List1!G4 -> 50.9 | H4: =List1!H4 -> 916.2 | I4: =List1!I4 -> 3518.7
A5: =List1!A5 -> 3 | B5: =List1!B5 -> Richard Pařil | C5: =List1!C5 -> 49.2 | D5: =List1!D5 -> 1107 | E5: =List1!E5 -> 25 | F5: =List1!F5 -> 1500 | G5: =List1!G5 -> 47.8 | H5: =List1!H5 -> 860.4 | I5: =List1!I5 -> 3467.4
A6: =List1!A6 -> 4 | B6: =List1!B6 -> Břetislav Brodský | C6: =List1!C6 -> 57 | D6: =List1!D6 -> 1282.5 | E6: =List1!E6 -> 21 | F6: =List1!F6 -> 1260 | G6: =List1!G6 -> 41 | H6: =List1!H6 -> 738 | I6: =List1!I6 -> 3280.5
A7: =List1!A7 -> 5 | B7: =List1!B7 -> Libor Břicháček | C7: =List1!C7 -> 45.7 | D7: =List1!D7 -> 1028.25 | E7: =List1!E7 -> 23 | F7: =List1!F7 -> 1380 | G7: =List1!G7 -> 47.1 | H7: =List1!H7 -> 847.8 | I7: =List1!I7 -> 3256.05
A8: =List1!A8 -> 6 | B8: =List1!B8 -> Lukáš Bíba | C8: =List1!C8 -> 52.3 | D8: =List1!D8 -> 1176.75 | E8: =List1!E8 -> 17 | F8: =List1!F8 -> 1020 | G8: =List1!G8 -> 48 | H8: =List1!H8 -> 864 | I8: =List1!I8 -> 3060.75
A9: =List1!A9 -> 7 | B9: =List1!B9 -> Martin Dvorský | C9: =List1!C9 -> 38.7 | D9: =List1!D9 -> 870.75 | E9: =List1!E9 -> 15 | F9: =List1!F9 -> 900 | G9: =List1!G9 -> 48.6 | H9: =List1!H9 -> 874.8 | I9: =List1!I9 -> 2645.55
A10: =List1!A10 -> 8 | B10: =List1!B10 -> Jan Smrčka | C10: =List1!C10 -> 30.7 | D10: =List1!D10 -> 690.75 | E10: =List1!E10 -> 15 | F10: =List1!F10 -> 900 | G10: =List1!G10 -> 57.2 | H10: =List1!H10 -> 1029.6 | I10: =List1!I10 -> 2620.35
A11: =List1!A11 -> 9 | B11: =List1!B11 -> Filip Čech | C11: =List1!C11 -> 34.6 | D11: =List1!D11 -> 778.5 | E11: =List1!E11 -> 13 | F11: =List1!F11 -> 780 | G11: =List1!G11 -> 50.4 | H11: =List1!H11 -> 907.2 | I11: =List1!I11 -> 2465.7
A12: =List1!A12 -> 10 | B12: =List1!B12 -> Pavel Moravec | C12: =List1!C12 -> 26.2 | D12: =List1!D12 -> 589.5 | E12: =List1!E12 -> 12 | F12: =List1!F12 -> 720 | G12: =List1!G12 -> 51.5 | H12: =List1!H12 -> 927 | I12: =List1!I12 -> 2236.5
A13: =List1!A13 -> 11 | B13: =List1!B13 -> Aneta Loužecká | C13: =List1!C13 -> 49.7 | D13: =List1!D13 -> 1118.25 | E13: =List1!E13 -> 6 | F13: =List1!F13 -> 360 | G13: =List1!G13 -> 12.6 | H13: =List1!H13 -> 226.8 | I13: =List1!I13 -> 1705.05
A14: =List1!A14 -> 12 | B14: =List1!B14 -> Radek Záveský | C14: =List1!C14 -> 31.1 | D14: =List1!D14 -> 699.75 | E14: =List1!E14 -> 1 | F14: =List1!F14 -> 60 | G14: =List1!G14 -> 40.6 | H14: =List1!H14 -> 730.8 | I14: =List1!I14 -> 1490.55
A17: =List2!A1 -> FINÁLE | C17: =List2!C1 -> 1 | D17: =List2!D1 -> 0 | E17: =List2!E1 -> 2 | F17: =List2!F1 -> 0 | G17: =List2!G1 -> 3 | H17: =List2!H1 -> 0 | I17: =List2!I1 -> 4 | J17: =List2!J1 -> 0 | ... L17: =List2!L1 -> 0
A18: =List2!A2 -> Poř. č. | B18: =List2!B2 -> Jméno | C18: =List2!C2 -> Rychlost | D18: =List2!D2 -> Body | E18: =List2!E2 -> Vis na oblině | F18: =List2!F2 -> Body | G18: =List2!G2 -> Křivé shyby | H18: =List2!H2 -> Body | ... L18: =List2!L2 -> Body
A19: =List2!A3 -> 1 | B19: =List2!B3 -> Adam Ondra | C19: =List2!C3 -> 8.8 | D19: =List2!D3 -> 800 | E19: =List2!E3 -> 40.3 | F19: =List2!F3 -> 1099.0909 | G19: =List2!G3 -> 15 | H19: =List2!H3 -> 1038.4615 | ... L19: =List2!L3 -> 771.81818
A20: =List2!A4 -> 2 | B20: =List2!B4 -> Štěpán Stráník | C20: =List2!C4 -> 9.3 | D20: =List2!D4 -> 675 | E20: =List2!E4 -> 25 | F20: =List2!F4 -> 681.81818 | G20: =List2!G4 -> 14 | H20: =List2!H4 -> 969.23077 | ... L20: =List2!L4 -> 908.18182
A21: =List2!A5 -> 3 | B21: =List2!B5 -> Michal Běhounek | C21: =List2!C5 -> 9.1 | D21: =List2!D5 -> 725 | E21: =List2!E5 -> 23.9 | F21: =List2!F5 -> 651.81818 | G21: =List2!G5 -> 10 | H21: =List2!H5 -> 692.30769 | ... L21: =List2!L5 -> 826.36364
A22: =List2!A6 -> 4 | B22: =List2!B6 -> Lukáš Skála | C22: =List2!C6 -> - | D22: =List2!D6 -> 0 | E22: =List2!E6 -> 22.6 | F22: =List2!F6 -> 616.36364 | G22: =List2!G6 -> 11 | H22: =List2!H6 -> 761.53846 | ... L22: =List2!L6 -> 526.36364
A23: =List2!A7 -> 5 | B23: =List2!B7 -> Libor Břicháček | C23: =List2!C7 -> 11 | D23: =List2!D7 -> 250 | E23: =List2!E7 -> 20.3 | F23: =List2!F7 -> 553.63636 | G23: =List2!G7 -> 11 | H23: =List2!H7 -> 761.53846 | ... L23: =List2!L7 -> 796.36364
A24: =List2!A8 -> 6 | B24: =List2!B8 -> Richard Pařil | C24: =List2!C8 -> 9.5 | D24: =List2!D8 -> 625 | E24: =List2!E8 -> 23 | F24: =List2!F8 -> 627.27273 | G24: =List2!G8 -> 11 | H24: =List2!H8 -> 761.53846 | ... L24: =List2!L8 -> 690
A25: =List2!A9 -> 7 | B25: =List2!B9 -> Martin Dvorský | C25: =List2!C9 -> 11.5 | D25: =List2!D9 -> 125 | E25: =List2!E9 -> 12.5 | F25: =List2!F9 -> 340.90909 | G25: =List2!G9 -> 9 | H25: =List2!H9 -> 623.07692 | ... L25: =List2!L9 -> 531.81818
A26: =List2!A10 -> 8 | B26: =List2!B10 -> Břetislav Brodský | C26: =List2!C10 -> 13.2 | D26: =List2!D10 -> 0 | E26: =List2!E10 -> 13 | F26: =List2!F10 -> 354.54545 | G26: =List2!G10 -> 9 | H26: =List2!H10 -> 623.07692 | ... L26: =List2!L10 -> 580.90909
A27: =List2!A11 -> 9 | B27: =List2!B11 -> Lukáš Bíba | C27: =List2!C11 -> 18.5 | D27: =List2!D11 -> 0 | E27: =List2!E11 -> 4.3 | F27: =List2!F11 -> 117.27273 | G27: =List2!G11 -> 8 | H27: =List2!H11 -> 553.84615 | ... L27: =List2!L11 -> 95.454545
A28: =List2!A12 -> 10 | B28: =List2!B12 -> Jan Smrčka | C28: =List2!C12 -> 21.1 | D28: =List2!D12 -> 0 | E28: =List2!E12 -> 6.7 | F28: =List2!F12 -> 182.72727 | G28: =List2!G12 -> 4 | H28: =List2!H12 -> 276.92308 | ... L28: =List2!L12 -> 370.90909
C30: =List2!M1 -> 6 | D30: =List2!N1 -> 0 | E30: =List2!O1 -> 7 | F30: =List2!P1 -> 0 | G30: =List2!Q1 -> 8 | H30: =List2!R1 -> 0 | I30: =List2!S1 -> 9 | J30: =List2!T1 -> 0 | ... L30: =List2!V1 -> 0 | M30: =List2!W2 -> Celkem
A31: =A18 -> Poř. č. | B31: =B18 -> Jméno | C31: =List2!M2 -> Bachar | D31: =List2!N2 -> Body | E31: =List2!O2 -> Stisky | F31: =List2!P2 -> Body | G31: =List2!Q2 -> Double dynamo | H31: =List2!R2 -> Body | I31: =List2!S2 -> Vis na malé | J31: =List2!T2 -> Body | ... L31: =List2!V2 -> Body
A32: =A19 -> 1 | B32: =B19 -> Adam Ondra | C32: =List2!M3 -> 14 | D32: =List2!N3 -> 741.17647 | E32: =List2!O3 -> 32 | F32: =List2!P3 -> 960 | G32: =List2!Q3 -> 10 | H32: =List2!R3 -> 428.57143 | I32: =List2!S3 -> 37.4 | J32: =List2!T3 -> 961.71429 | ... M32: =List2!W3 -> 8910.4236
A33: =A20 -> 2 | B33: =B20 -> Štěpán Stráník | C33: =List2!M4 -> 12 | D33: =List2!N4 -> 635.29412 | E33: =List2!O4 -> 26 | F33: =List2!P4 -> 780 | G33: =List2!Q4 -> 24 | H33: =List2!R4 -> 1028.5714 | I33: =List2!S4 -> 37.2 | J33: =List2!T4 -> 956.57143 | ... M33: =List2!W4 -> 8399.4504
A34: =A21 -> 3 | B34: =B21 -> Michal Běhounek | C34: =List2!M5 -> 11 | D34: =List2!N5 -> 582.35294 | E34: =List2!O5 -> 16 | F34: =List2!P5 -> 480 | G34: =List2!Q5 -> 10 | H34: =List2!R5 -> 428.57143 | I34: =List2!S5 -> 26.9 | J34: =List2!T5 -> 691.71429 | ... M34: =List2!W5 -> 6160.1998
A35: =A22 -> 4 | B35: =B22 -> Lukáš Skála | C35: =List2!M6 -> 11 | D35: =List2!N6 -> 582.35294 | E35: =List2!O6 -> 16 | F35: =List2!P6 -> 480 | G35: =List2!Q6 -> 18 | H35: =List2!R6 -> 771.42857 | I35: =List2!S6 -> 25.1 | J35: =List2!T6 -> 645.42857 | ... M35: =List2!W6 -> 5303.5014
A36: =A23 -> 5 | B36: =B23 -> Libor Břicháček | C36: =List2!M7 -> 10 | D36: =List2!N7 -> 529.41176 | E36: =List2!O7 -> 3 | F36: =List2!P7 -> 90 | G36: =List2!Q7 -> 16 | H36: =List2!R7 -> 685.71429 | I36: =List2!S7 -> 19.3 | J36: =List2!T7 -> 496.28571 | ... M36: =List2!W7 -> 5258.8326
A37: =A24 -> 6 | B37: =B24 -> Richard Pařil | C37: =List2!M8 -> 6 | D37: =List2!N8 -> 317.64706 | E37: =List2!O8 -> 14 | F37: =List2!P8 -> 420 | G37: =List2!Q8 -> 12 | H37: =List2!R8 -> 514.28571 | I37: =List2!S8 -> 17.5 | J37: =List2!T8 -> 450 | ... M37: =List2!W8 -> 5137.4831
A38: =A25 -> 7 | B38: =B25 -> Martin Dvorský | C38: =List2!M9 -> 8 | D38: =List2!N9 -> 423.52941 | E38: =List2!O9 -> 14 | F38: =List2!P9 -> 420 | G38: =List2!Q9 -> 10 | H38: =List2!R9 -> 428.57143 | I38: =List2!S9 -> 26.1 | J38: =List2!T9 -> 671.14286 | ... M38: =List2!W9 -> 4235.4801
A39: =A26 -> 8 | B39: =B26 -> Břetislav Brodský | C39: =List2!M10 -> 10 | D39: =List2!N10 -> 529.41176 | E39: =List2!O10 -> 8 | F39: =List2!P10 -> 240 | G39: =List2!Q10 -> 11 | H39: =List2!R10 -> 471.42857 | I39: =List2!S10 -> 8.5 | J39: =List2!T10 -> 218.57143 | ... M39: =List2!W10 -> 4005.4113
A40: =A27 -> 9 | B40: =B27 -> Lukáš Bíba | C40: =List2!M11 -> 6 | D40: =List2!N11 -> 317.64706 | E40: =List2!O11 -> 7 | F40: =List2!P11 -> 210 | G40: =List2!Q11 -> 11 | H40: =List2!R11 -> 471.42857 | I40: =List2!S11 -> 22.1 | J40: =List2!T11 -> 568.28571 | ... M40: =List2!W11 -> 2987.413
A41: =A28 -> 10 | B41: =B28 -> Jan Smrčka | C41: =List2!M12 -> 4 | D41: =List2!N12 -> 211.76471 | E41: =List2!O12 -> 3 | F41: =List2!P12 -> 90 | G41: =List2!Q12 -> 9 | H41: =List2!R12 -> 385.71429 | I41: =List2!S12 -> - | J41: =List2!T12 -> 0 | ... M41: =List2!W12 -> 2145.5065
